BEGIN:VCALENDAR
VERSION:2.0
PRODID:Upper Dublin, PA Calendar Creator
METHOD:PUBLISH
BEGIN:VEVENT
DTSTAMP:20260312T132841
DTSTART:20260312T193000
DTEND:20260312T213000
SUMMARY:Human Relations Commission Meeting & Speaker Event
DESCRIPTION:<p><a href="https://upper1.prod-as.govaccess.org/government/township-meetings/agendas-minutes-video-links">Agendas, Minutes &amp; Video Links</a></p><p><div x14z9mp="" xat24cr="" x1lziwak="" x1vvkbs="" x126k92a"=""><div dir="auto">Speaker Event: Understanding Workplace Protections: DEI, Accommodations, and Beyond - </div></div><div xat24cr="" x1lziwak="" x1vvkbs="" xtlvy1s="" x126k92a"=""><div dir="auto">Join the Upper Dublin Human Relations Commission in this panel discussion about employer and employee rights in Pennsylvania</div><div dir="auto"><strong>Date</strong>: Thursday, March 12, 2026</div><div dir="auto"><strong>Time</strong>: 7:00 p.m.</div></div><div xat24cr="" x1lziwak="" x1vvkbs="" xtlvy1s="" x126k92a"=""><div dir="auto"><strong>Location</strong>: Upper Dublin Township Building Board Room (801 Loch Alsh Avenue, Fort Washington, PA 19034)</div><div dir="auto"><strong>Register </strong>at <a attributionsrc="/privacy_sandbox/comet/register/source/?xt=AZYgDUeJiarQugAobjTjK-5fyVLWnW03U0_hW5rlsUmoFQi08vX8yc8lG01_Ik82UuFMseSf_o9pLwWAWzmFej0o_TusK0gR8F7tHqxaMeHTelIJh9f6tadiUP9aQQK-ArIhB_820S6J8o2WfHTGk61mpQQ1iepJK9Z3ofyGlTTcC3F4N-mXGwi3Yc97iEB1Cbc1F-Tk18GUsfgQY-mhoPE0IlwkTnlERoXMeipuIZGuXgvpr_h3H4moD0SXjmBMXVAHI7PILrbe0SjaWj4qKvVYrrQavE2WtU1AB_lf_r4TkxSl-usvoV3iW-kvm4fk97129lAr65LqCW9n4LpTO-dqMlbA0dC3iOIsJdCoD8B5GO0-IH-R7o3puuyBgqL2lpu9fvDENgH28l3jsEnTz2SADubLxx2QduxxR23tdAFBO4wNjLgO-1cKdKcO6NYgHFVeItxmkeU3DD6CuLOC2z0MWQkqN33puvTktyjPS1PX38hWAIzzC9jB3iX-fU_E8jrc95TLiy0kdAdM1KK_KgworHbR1niU1om4djs0v3u00aTc4rTf87zCB4TgNJVClpfKFZsSD9gvDe8eDV5hXiJ5ax9BUlDvxgCj8-tLdv4EjiJnWyGpZUk27MAwGXTyU9W80XyUg9qZrnuYL5T7sZq0PAJBNwPtNoE-xCMlO3ieR7n3mJ4nUOPpcTjfGwyaTxuRVLcx-_qb2OrszuYuJXRwQNRpmeW_WtTiVOkoH7O6ttCVL19-RsFOHv8Q8zSxRiu8Ofqk9jjqWI4Zwn8kGYIU_r_5TYxC59ZCw2eN4Bufvq1_bhtt1_FC7Cf1avHE-QcED7k0ciPp_0vZQOzqECf0mIXw52jKsNmCoGETZ0Z3F1ESZzBjX2fqqPeEMo-dHVvS2VEa9o4YqUxKQQRF4sai8q2qp7hiQCgDqhJUrrNdW_GouRLzcaOHOxbw5f4vWztxyXazd4LRjqAxR3a5ojqJ9Jn_6CbRzvGOVogJ4Gt7dBUThRgoD6L-pqmRjyKodHP11OrZPPf_6Vy4DjpP_ikZI_ByMjy9KDmyuR6j4nnLsHYS5qG4Fsk59_-uTTrRx609AJvH4cg2DR60Q9N2b0pcs00VnzlerXGXSfaLPGLEsoZZV3l8gT2czltniK3sMPRQwS20iTZ26kJ4ULoI3TiXlewWLCP_mxrqOzOXsocmQ5IZ6O49sF68SNORCIuZ3dNQ5b4pP95RCchXXSR_XtXCYCjAMi_DiT6dyhfzyKP_UFNRSQDIWBtdFGY22QCGVloV6jifQ2olmA1W-CmIMdwYAWGw5kv3HkzkDnr_WBiPZQyNhHRfYjFMu9A0kns_OZ14Yr7c-6IOgOhNTcPHQArw30NjxH_VLh3ztPUsa3z-IcNcMXx_f_1qskRlRavohpHADZSSCvf5mAHdLQYYxtUuDSe0Gph_Skpu_Yau0mpsNeMKT9q_JdJ4b53bpljJimY4WN7yH7o3q9dYtJItxDdGx3A8QkhMVUgSVo43piHA53sqPlG9TVuHt2kYOTqXwRUOJxiYP8WnwCaTtQ1POHaNy3UI9tuMZp4LylCAtFrDxWrHmnQsccanh_6u0CQj8ydJLTH9VGgFv_7w_TtL-G7GECitPo7JduZ4spkEZ07EvqDY7qLpYhhPIOLQoyQJVB4hVliAMwK5TQmLdQn86p-f" xjbqb8w="" x1ejq31n="" x18oe1m7="" x1sy0etr="" xstzfhl="" x972fbf="" x10w94by="" x1qhh985="" x14e42zd="" x9f619="" x1ypdohk="" xt0psk2="" x3ct3a4="" xdj266r="" x14z9mp="" xat24cr="" x1lziwak="" xexx8yu="" xyri2b="" x18d9i69="" x1c1uobl="" x16tdsg8="" x1hl2dhg="" xggy1nq="" x1a2a7pz="" xkrqix3="" x1sur9pj="" x1fey0fg="" x1s688f"="" href="https://l.facebook.com/l.php?u=http%3A%2F%2Fupperdublin.net%2Fhrc%3Ffbclid%3DIwZXh0bgNhZW0CMTAAYnJpZBExSDNqaDdVUjhnUng4a3ZiTnNydGMGYXBwX2lkEDIyMjAzOTE3ODgyMDA4OTIAAR79Ddjo6kCE3r83vD5RpQHbFtisGLor9odx_8orDEZd6GgUMJjP1DG7oQQvAw_aem_IU3Vh0Oyt3coGgvMJ9xLTg&amp;h=AT58ym3xEcH4dwsyGBSAknKZhatgGbh4RArQ5XuV_Rmg4usTJ92BZ-sFPci9HceFXwFekJbX1nPBZRxVe9vMFfERXIP73RVY1ZFNxL-MJJefSlP7EXjFw7vSloJDvxilRJk7E0poJtopiQ&amp;__tn__=-UK-R&amp;c[0]=AT4ytkva9eUUslq2mLr0WllCD3RGqh7JKOEMKy4phRzBN12J33m2FxWljKoDm9w2AcXKMGzHTQZWd9fwsBfgvIiJTVIUJ_xdHcnkxlJr4RzGmKKFAZqj05OvqQnLaFaHKWX7divnDVAZKI1eXV9Uk102iGy5aYgcj6gH1DZ0vPcBrls1UItmsbpUJXPP0mbPtyIbpRdaHar0NsApU9h_DK7xRQ" rel="nofollow noreferrer" role="link" tabindex="0" target="_blank">upperdublin.net/hrc</a></div></div></p>
X-ALT-DESC;FMTTYPE=text/html:<p><a href="https://upper1.prod-as.govaccess.org/government/township-meetings/agendas-minutes-video-links">Agendas, Minutes &amp; Video Links</a></p><p><div x14z9mp="" xat24cr="" x1lziwak="" x1vvkbs="" x126k92a"=""><div dir="auto">Speaker Event: Understanding Workplace Protections: DEI, Accommodations, and Beyond - </div></div><div xat24cr="" x1lziwak="" x1vvkbs="" xtlvy1s="" x126k92a"=""><div dir="auto">Join the Upper Dublin Human Relations Commission in this panel discussion about employer and employee rights in Pennsylvania</div><div dir="auto"><strong>Date</strong>: Thursday, March 12, 2026</div><div dir="auto"><strong>Time</strong>: 7:00 p.m.</div></div><div xat24cr="" x1lziwak="" x1vvkbs="" xtlvy1s="" x126k92a"=""><div dir="auto"><strong>Location</strong>: Upper Dublin Township Building Board Room (801 Loch Alsh Avenue, Fort Washington, PA 19034)</div><div dir="auto"><strong>Register </strong>at <a attributionsrc="/privacy_sandbox/comet/register/source/?xt=AZYgDUeJiarQugAobjTjK-5fyVLWnW03U0_hW5rlsUmoFQi08vX8yc8lG01_Ik82UuFMseSf_o9pLwWAWzmFej0o_TusK0gR8F7tHqxaMeHTelIJh9f6tadiUP9aQQK-ArIhB_820S6J8o2WfHTGk61mpQQ1iepJK9Z3ofyGlTTcC3F4N-mXGwi3Yc97iEB1Cbc1F-Tk18GUsfgQY-mhoPE0IlwkTnlERoXMeipuIZGuXgvpr_h3H4moD0SXjmBMXVAHI7PILrbe0SjaWj4qKvVYrrQavE2WtU1AB_lf_r4TkxSl-usvoV3iW-kvm4fk97129lAr65LqCW9n4LpTO-dqMlbA0dC3iOIsJdCoD8B5GO0-IH-R7o3puuyBgqL2lpu9fvDENgH28l3jsEnTz2SADubLxx2QduxxR23tdAFBO4wNjLgO-1cKdKcO6NYgHFVeItxmkeU3DD6CuLOC2z0MWQkqN33puvTktyjPS1PX38hWAIzzC9jB3iX-fU_E8jrc95TLiy0kdAdM1KK_KgworHbR1niU1om4djs0v3u00aTc4rTf87zCB4TgNJVClpfKFZsSD9gvDe8eDV5hXiJ5ax9BUlDvxgCj8-tLdv4EjiJnWyGpZUk27MAwGXTyU9W80XyUg9qZrnuYL5T7sZq0PAJBNwPtNoE-xCMlO3ieR7n3mJ4nUOPpcTjfGwyaTxuRVLcx-_qb2OrszuYuJXRwQNRpmeW_WtTiVOkoH7O6ttCVL19-RsFOHv8Q8zSxRiu8Ofqk9jjqWI4Zwn8kGYIU_r_5TYxC59ZCw2eN4Bufvq1_bhtt1_FC7Cf1avHE-QcED7k0ciPp_0vZQOzqECf0mIXw52jKsNmCoGETZ0Z3F1ESZzBjX2fqqPeEMo-dHVvS2VEa9o4YqUxKQQRF4sai8q2qp7hiQCgDqhJUrrNdW_GouRLzcaOHOxbw5f4vWztxyXazd4LRjqAxR3a5ojqJ9Jn_6CbRzvGOVogJ4Gt7dBUThRgoD6L-pqmRjyKodHP11OrZPPf_6Vy4DjpP_ikZI_ByMjy9KDmyuR6j4nnLsHYS5qG4Fsk59_-uTTrRx609AJvH4cg2DR60Q9N2b0pcs00VnzlerXGXSfaLPGLEsoZZV3l8gT2czltniK3sMPRQwS20iTZ26kJ4ULoI3TiXlewWLCP_mxrqOzOXsocmQ5IZ6O49sF68SNORCIuZ3dNQ5b4pP95RCchXXSR_XtXCYCjAMi_DiT6dyhfzyKP_UFNRSQDIWBtdFGY22QCGVloV6jifQ2olmA1W-CmIMdwYAWGw5kv3HkzkDnr_WBiPZQyNhHRfYjFMu9A0kns_OZ14Yr7c-6IOgOhNTcPHQArw30NjxH_VLh3ztPUsa3z-IcNcMXx_f_1qskRlRavohpHADZSSCvf5mAHdLQYYxtUuDSe0Gph_Skpu_Yau0mpsNeMKT9q_JdJ4b53bpljJimY4WN7yH7o3q9dYtJItxDdGx3A8QkhMVUgSVo43piHA53sqPlG9TVuHt2kYOTqXwRUOJxiYP8WnwCaTtQ1POHaNy3UI9tuMZp4LylCAtFrDxWrHmnQsccanh_6u0CQj8ydJLTH9VGgFv_7w_TtL-G7GECitPo7JduZ4spkEZ07EvqDY7qLpYhhPIOLQoyQJVB4hVliAMwK5TQmLdQn86p-f" xjbqb8w="" x1ejq31n="" x18oe1m7="" x1sy0etr="" xstzfhl="" x972fbf="" x10w94by="" x1qhh985="" x14e42zd="" x9f619="" x1ypdohk="" xt0psk2="" x3ct3a4="" xdj266r="" x14z9mp="" xat24cr="" x1lziwak="" xexx8yu="" xyri2b="" x18d9i69="" x1c1uobl="" x16tdsg8="" x1hl2dhg="" xggy1nq="" x1a2a7pz="" xkrqix3="" x1sur9pj="" x1fey0fg="" x1s688f"="" href="https://l.facebook.com/l.php?u=http%3A%2F%2Fupperdublin.net%2Fhrc%3Ffbclid%3DIwZXh0bgNhZW0CMTAAYnJpZBExSDNqaDdVUjhnUng4a3ZiTnNydGMGYXBwX2lkEDIyMjAzOTE3ODgyMDA4OTIAAR79Ddjo6kCE3r83vD5RpQHbFtisGLor9odx_8orDEZd6GgUMJjP1DG7oQQvAw_aem_IU3Vh0Oyt3coGgvMJ9xLTg&amp;h=AT58ym3xEcH4dwsyGBSAknKZhatgGbh4RArQ5XuV_Rmg4usTJ92BZ-sFPci9HceFXwFekJbX1nPBZRxVe9vMFfERXIP73RVY1ZFNxL-MJJefSlP7EXjFw7vSloJDvxilRJk7E0poJtopiQ&amp;__tn__=-UK-R&amp;c[0]=AT4ytkva9eUUslq2mLr0WllCD3RGqh7JKOEMKy4phRzBN12J33m2FxWljKoDm9w2AcXKMGzHTQZWd9fwsBfgvIiJTVIUJ_xdHcnkxlJr4RzGmKKFAZqj05OvqQnLaFaHKWX7divnDVAZKI1eXV9Uk102iGy5aYgcj6gH1DZ0vPcBrls1UItmsbpUJXPP0mbPtyIbpRdaHar0NsApU9h_DK7xRQ" rel="nofollow noreferrer" role="link" tabindex="0" target="_blank">upperdublin.net/hrc</a></div></div></p>
LOCATION:Upper Dublin Municipal Complex\, 801 Loch Alsh Avenue Fort Washington\, Pennsylvania 19034
CLASS:PUBLIC
END:VEVENT
END:VCALENDAR
