BEGIN:VCALENDAR
VERSION:2.0
PRODID:Upper Dublin, PA Calendar Creator
METHOD:PUBLISH
BEGIN:VEVENT
DTSTAMP:20260120T133825
DTSTART:20260403T000000
DTEND:20260403T235900
SUMMARY:Good Friday - Township Offices Closed
DESCRIPTION:Trash &amp; Recycling  in area D will be collected on Wednesday, April 1st.
X-ALT-DESC;FMTTYPE=text/html:Trash &amp; Recycling  in area D will be collected on Wednesday, April 1st.
LOCATION:
CLASS:PUBLIC
END:VEVENT
END:VCALENDAR
