BEGIN:VCALENDAR
VERSION:2.0
PRODID:Upper Dublin, PA Calendar Creator
METHOD:PUBLISH
BEGIN:VEVENT
DTSTAMP:20260224T162404
DTSTART:20260305T000000
DTEND:20260305T235900
SUMMARY:Yard Waste Collections Begin (Area A)
DESCRIPTION:<p>Monday -&nbsp;<strong>Area D</strong><br>Wednesday -<strong>&nbsp;Areas B &amp; C</strong><br>Thursday -&nbsp;<strong>Area A</strong></p><p><strong><a href="https://upper1.prod-as.govaccess.org/home/showpublisheddocument/2634/638724685744370000" target="_blank" rel="noopener">Sanitation Collection Map</a></strong></p>
X-ALT-DESC;FMTTYPE=text/html:<p>Monday -&nbsp;<strong>Area D</strong><br>Wednesday -<strong>&nbsp;Areas B &amp; C</strong><br>Thursday -&nbsp;<strong>Area A</strong></p><p><strong><a href="https://upper1.prod-as.govaccess.org/home/showpublisheddocument/2634/638724685744370000" target="_blank" rel="noopener">Sanitation Collection Map</a></strong></p>
LOCATION:
CLASS:PUBLIC
END:VEVENT
END:VCALENDAR
