BEGIN:VCALENDAR
VERSION:2.0
PRODID:Upper Dublin, PA Calendar Creator
METHOD:PUBLISH
BEGIN:VEVENT
DTSTAMP:20260123T152457
DTSTART:20260321T180000
DTEND:20260321T220000
SUMMARY:UD Whodunnit Fundraiser
DESCRIPTION:<p wixui-rich-text__text"="">Please join us at UD Whodunnit, an exciting new community fundraiser, created to take the place of our longtime Casino Night!</p><p wixui-rich-text__text"="">Hosted in partnership with Upper Dublin Township and Upper Dublin Education Foundation, your support directly benefits the Upper Dublin Education Foundation, the Committee on Teenage Alcohol &amp; Substance Abuse (CoTASA), Friends of the Upper Dublin Public Library, the UDP&amp;R Summer Camp Scholarship Fund, the Upper Dublin Township Open Space Fund, the Cheston Fund, the Upper Dublin Citizen Emergency Fund, and many other local programs.</p><p wixui-rich-text__text"="">It's going to be a killer evening celebrating and supporting our Upper Dublin community together!</p><p wixui-rich-text__text"="">Any questions? Please contact Michelle Boas at&nbsp;<a data-auto-recognition="true" href="mailto:&#109;&#98;&#111;&#97;&#115;&#64;&#117;&#100;&#115;&#100;&#46;&#111;&#103;">mboas@udsd.og</a>.</p><p wixui-rich-text__text"="">Click here for registration:&nbsp;<a href="https://lp.constantcontactpages.com/ev/reg/7jkjyy5/lp/f21fd4fc-20b8-403f-9add-3e7c6d3831d9" target="_blank" rel="noopener">https://lp.constantcontactpages.com/ev/reg/7jkjyy5/lp/f21fd4fc-20b8-403f-9add-3e7c6d3831d9</a></p>
X-ALT-DESC;FMTTYPE=text/html:<p wixui-rich-text__text"="">Please join us at UD Whodunnit, an exciting new community fundraiser, created to take the place of our longtime Casino Night!</p><p wixui-rich-text__text"="">Hosted in partnership with Upper Dublin Township and Upper Dublin Education Foundation, your support directly benefits the Upper Dublin Education Foundation, the Committee on Teenage Alcohol &amp; Substance Abuse (CoTASA), Friends of the Upper Dublin Public Library, the UDP&amp;R Summer Camp Scholarship Fund, the Upper Dublin Township Open Space Fund, the Cheston Fund, the Upper Dublin Citizen Emergency Fund, and many other local programs.</p><p wixui-rich-text__text"="">It's going to be a killer evening celebrating and supporting our Upper Dublin community together!</p><p wixui-rich-text__text"="">Any questions? Please contact Michelle Boas at&nbsp;<a data-auto-recognition="true" href="mailto:&#109;&#98;&#111;&#97;&#115;&#64;&#117;&#100;&#115;&#100;&#46;&#111;&#103;">mboas@udsd.og</a>.</p><p wixui-rich-text__text"="">Click here for registration:&nbsp;<a href="https://lp.constantcontactpages.com/ev/reg/7jkjyy5/lp/f21fd4fc-20b8-403f-9add-3e7c6d3831d9" target="_blank" rel="noopener">https://lp.constantcontactpages.com/ev/reg/7jkjyy5/lp/f21fd4fc-20b8-403f-9add-3e7c6d3831d9</a></p>
LOCATION:Manor House at Commonwealth\, 300 Tournament Drive Horsham\, Pennsylvania 19044
CLASS:PUBLIC
END:VEVENT
END:VCALENDAR
