BEGIN:VCALENDAR
VERSION:2.0
PRODID:Upper Dublin, PA Calendar Creator
METHOD:PUBLISH
BEGIN:VEVENT
DTSTAMP:20260304T054726
DTSTART:20260420T164500
DTEND:20260420T171500
SUMMARY:Roland the Minstrel Pig Marionette Show
DESCRIPTION:<p><strong>Dates:&nbsp;</strong>Monday 4/20<br><strong style="font-size: 1.125rem;">Time:</strong><span style="font-size: 1.125rem;">&nbsp;4:45-5:15p<br></span><strong style="font-size: 1.125rem;">Age Group:&nbsp;</strong><span style="font-size: 1.125rem;">Ages 3-10 years &amp; their families</span></p><p><strong>Program Location:</strong> StoryLab (Children's Library)</p><p><strong>Description:&nbsp;</strong> The Imagination Architects present, Roland the Minstrel Pig! The 3rd-5th graders assisted with writing, recording, producing, puppeting, and presenting this marionette show based on the book of the same name by William Steig.</p><p><em>Upper Dublin Library strives to make our programs accessible for all. For reasonable accommodations, please contact the library at 215-628-8744 or <a href="mailto:&#117;&#112;&#112;&#101;&#114;&#100;&#117;&#98;&#108;&#105;&#110;&#108;&#105;&#98;&#114;&#97;&#114;&#121;&#64;&#109;&#99;&#108;&#105;&#110;&#99;&#46;&#111;&#114;&#103;">upperdublinlibrary@mclinc.org.</a></em></p><p><b>No registration required.</b></p>
X-ALT-DESC;FMTTYPE=text/html:<p><strong>Dates:&nbsp;</strong>Monday 4/20<br><strong style="font-size: 1.125rem;">Time:</strong><span style="font-size: 1.125rem;">&nbsp;4:45-5:15p<br></span><strong style="font-size: 1.125rem;">Age Group:&nbsp;</strong><span style="font-size: 1.125rem;">Ages 3-10 years &amp; their families</span></p><p><strong>Program Location:</strong> StoryLab (Children's Library)</p><p><strong>Description:&nbsp;</strong> The Imagination Architects present, Roland the Minstrel Pig! The 3rd-5th graders assisted with writing, recording, producing, puppeting, and presenting this marionette show based on the book of the same name by William Steig.</p><p><em>Upper Dublin Library strives to make our programs accessible for all. For reasonable accommodations, please contact the library at 215-628-8744 or <a href="mailto:&#117;&#112;&#112;&#101;&#114;&#100;&#117;&#98;&#108;&#105;&#110;&#108;&#105;&#98;&#114;&#97;&#114;&#121;&#64;&#109;&#99;&#108;&#105;&#110;&#99;&#46;&#111;&#114;&#103;">upperdublinlibrary@mclinc.org.</a></em></p><p><b>No registration required.</b></p>
LOCATION:StoryLab (Children's Library)\, 
CLASS:PUBLIC
END:VEVENT
END:VCALENDAR
