BEGIN:VCALENDAR
VERSION:2.0
PRODID:Upper Dublin, PA Calendar Creator
METHOD:PUBLISH
BEGIN:VEVENT
DTSTAMP:20260306T052203
DTSTART:20260512T140000
DTEND:20260512T150000
SUMMARY:Online Author: Dr. Vivienne Ming
DESCRIPTION:<p><strong>Dates: </strong>Tuesday 5/12<br><strong>Time:</strong>&nbsp;2-3p<br><span style="font-size: 1.125rem;"></span><strong style="font-size: 1.125rem;">Age Group:&nbsp;</strong><span style="font-size: 1.125rem;">Adult</span></p><p><strong>Program Location:</strong>&nbsp;Online</p><p><strong>Registration:</strong><a href="https://libraryc.org/upperdublinlibrary/15704" target="_blank" rel="noopener">&nbsp;</a><strong><a href="https://libraryc.org/upperdublinlibrary/155771" target="_blank" rel="noopener">Register &amp; Submit Author Questions HERE.</a></strong></p><p><strong>Description:&nbsp;<br></strong><span style="font-size: 1.125rem;">Join us for a timely conversation on AI, humanity, and the next steps towards building a better future with self-proclaimed “mad scientist” Dr. Vivienne Ming as we discuss her new book,&nbsp;</span><em style="font-size: 1.125rem;">Robot-Proof:</em><span style="font-size: 1.125rem;">&nbsp;</span><em style="font-size: 1.125rem;">When Machines Have All the Answers, Build Better People.&nbsp;</em></p><p>In&nbsp;<em>Robot-Proof</em>, Dr. Vivienne Ming helps readers grasp the ugly and the amazing of how individuals, companies, and societies will respond to the changes that are already taking hold due to the advent of AI.&nbsp;<em>Robot-Proof&nbsp;</em>is a book about people, exploring what it means to be human in an increasingly automated world.</p><p>This book presents, then answers, pressing questions that readers may or may not have thought to themselves, such as:</p><ul>    <li aria-level="1">What predicts long-term life outcomes across millions of little kids?</li>    <li aria-level="1">Why is the Informational-Exploration Paradox the most terrifying phenomenon you’ve never heard of?</li>    <li aria-level="1">What predicts the smartest team and how will AI change it?</li>    <li aria-level="1">Why are&nbsp;<em>ill-posed problems</em>&nbsp;the future work, education, and a robot-proof humanity?</li></ul><p>With poignant insight and delicate care to keep us grounded in the human perspective,&nbsp;<em>Robot-Proof</em>&nbsp;is an entertaining and thought-provoking read for all individuals seeking to understand the next steps in a new and completely unprecedented world.</p><p>Register today to take part in the discussion!</p><p><strong style="font-size: 1.125rem;">Author Bios:<br></strong><span style="font-size: 1.125rem;">Dr. Vivienne Ming explores maximizing human capacity as a theoretical neuroscientist, delusional inventor, and demented Author. Over her career she’s founded 7 startups, been chief scientist at 2 others, and founded The Human Trust, a philanthropic data trust and “mad science incubator” building a foundation model for human development. She co-founded Possibility Sciences to advance scientific discovery via massive scale hybrid intelligence. She also develops AI tools for learning at home and in school, models of bias in hiring and promotion, and neurotechnologies for dementia, TBI, and postpartum depression.</span></p><p>In her free time, Vivienne designs AI systems to treat her son’s diabetes, predict manic episodes&nbsp;in bipolar sufferers, and reunite orphan refugees with extended family members. For relaxation, she writes science fiction and spends time with her wife and children.</p><p>Vivienne was named one of “10 Women to Watch in Tech” by&nbsp;<em>Inc. Magazine</em>&nbsp;and one of the&nbsp;BBC’s 100 Women in 2017. She is featured frequently for her research and inventions in&nbsp;<em>The&nbsp;</em><em>Financial Times</em>,&nbsp;<em>The Atlantic</em>,&nbsp;<em>Quartz Magazine</em>&nbsp;and&nbsp;<em>The New York Times</em>.</p><p>&nbsp;<strong style="font-size: 1.125rem;">Registration:<a href="https://libraryc.org/upperdublinlibrary/155771" target="_blank" rel="noopener">&nbsp;<strong>Register &amp; Submit Author Questions HERE.</strong></a></strong></p><hr><p>UDPL's Distinguished Author Series - Bestselling authors share their books with you in a live, virtual forum. Real-time Q&amp;A. Participate from anywhere you can connect. This series is generously sponsored by the Friends of UDPL with support from the Robert V. Stutz Distinguished Authors Fund.</p><p>This series is presented in collaboration with the Library Speakers Consortium.</p>
X-ALT-DESC;FMTTYPE=text/html:<p><strong>Dates: </strong>Tuesday 5/12<br><strong>Time:</strong>&nbsp;2-3p<br><span style="font-size: 1.125rem;"></span><strong style="font-size: 1.125rem;">Age Group:&nbsp;</strong><span style="font-size: 1.125rem;">Adult</span></p><p><strong>Program Location:</strong>&nbsp;Online</p><p><strong>Registration:</strong><a href="https://libraryc.org/upperdublinlibrary/15704" target="_blank" rel="noopener">&nbsp;</a><strong><a href="https://libraryc.org/upperdublinlibrary/155771" target="_blank" rel="noopener">Register &amp; Submit Author Questions HERE.</a></strong></p><p><strong>Description:&nbsp;<br></strong><span style="font-size: 1.125rem;">Join us for a timely conversation on AI, humanity, and the next steps towards building a better future with self-proclaimed “mad scientist” Dr. Vivienne Ming as we discuss her new book,&nbsp;</span><em style="font-size: 1.125rem;">Robot-Proof:</em><span style="font-size: 1.125rem;">&nbsp;</span><em style="font-size: 1.125rem;">When Machines Have All the Answers, Build Better People.&nbsp;</em></p><p>In&nbsp;<em>Robot-Proof</em>, Dr. Vivienne Ming helps readers grasp the ugly and the amazing of how individuals, companies, and societies will respond to the changes that are already taking hold due to the advent of AI.&nbsp;<em>Robot-Proof&nbsp;</em>is a book about people, exploring what it means to be human in an increasingly automated world.</p><p>This book presents, then answers, pressing questions that readers may or may not have thought to themselves, such as:</p><ul>    <li aria-level="1">What predicts long-term life outcomes across millions of little kids?</li>    <li aria-level="1">Why is the Informational-Exploration Paradox the most terrifying phenomenon you’ve never heard of?</li>    <li aria-level="1">What predicts the smartest team and how will AI change it?</li>    <li aria-level="1">Why are&nbsp;<em>ill-posed problems</em>&nbsp;the future work, education, and a robot-proof humanity?</li></ul><p>With poignant insight and delicate care to keep us grounded in the human perspective,&nbsp;<em>Robot-Proof</em>&nbsp;is an entertaining and thought-provoking read for all individuals seeking to understand the next steps in a new and completely unprecedented world.</p><p>Register today to take part in the discussion!</p><p><strong style="font-size: 1.125rem;">Author Bios:<br></strong><span style="font-size: 1.125rem;">Dr. Vivienne Ming explores maximizing human capacity as a theoretical neuroscientist, delusional inventor, and demented Author. Over her career she’s founded 7 startups, been chief scientist at 2 others, and founded The Human Trust, a philanthropic data trust and “mad science incubator” building a foundation model for human development. She co-founded Possibility Sciences to advance scientific discovery via massive scale hybrid intelligence. She also develops AI tools for learning at home and in school, models of bias in hiring and promotion, and neurotechnologies for dementia, TBI, and postpartum depression.</span></p><p>In her free time, Vivienne designs AI systems to treat her son’s diabetes, predict manic episodes&nbsp;in bipolar sufferers, and reunite orphan refugees with extended family members. For relaxation, she writes science fiction and spends time with her wife and children.</p><p>Vivienne was named one of “10 Women to Watch in Tech” by&nbsp;<em>Inc. Magazine</em>&nbsp;and one of the&nbsp;BBC’s 100 Women in 2017. She is featured frequently for her research and inventions in&nbsp;<em>The&nbsp;</em><em>Financial Times</em>,&nbsp;<em>The Atlantic</em>,&nbsp;<em>Quartz Magazine</em>&nbsp;and&nbsp;<em>The New York Times</em>.</p><p>&nbsp;<strong style="font-size: 1.125rem;">Registration:<a href="https://libraryc.org/upperdublinlibrary/155771" target="_blank" rel="noopener">&nbsp;<strong>Register &amp; Submit Author Questions HERE.</strong></a></strong></p><hr><p>UDPL's Distinguished Author Series - Bestselling authors share their books with you in a live, virtual forum. Real-time Q&amp;A. Participate from anywhere you can connect. This series is generously sponsored by the Friends of UDPL with support from the Robert V. Stutz Distinguished Authors Fund.</p><p>This series is presented in collaboration with the Library Speakers Consortium.</p>
LOCATION:Online\, 
CLASS:PUBLIC
END:VEVENT
END:VCALENDAR
