BEGIN:VCALENDAR
VERSION:2.0
PRODID:Upper Dublin, PA Calendar Creator
METHOD:PUBLISH
BEGIN:VEVENT
DTSTAMP:20260401T083845
DTSTART:20260420T094500
DTEND:20260420T150000
SUMMARY:Adult Discovery & Learning - Monday Courses
DESCRIPTION:<p dir="ltr"><span style="font-size: 1.125rem;">DATES: MONDAYS 4/13 - 4/20</span></p><p dir="ltr">AGE GROUP: Adults 18+</p><p dir="ltr">MONDAY COURSES&nbsp;</p><p dir="ltr"><a href="http://adl-udpl.coursestorm.com">REGISTER &amp; VIEW DETAILS HERE</a><br><hr></p><p dir="ltr"><span style="color: rgb(192, 0, 0);"><strong>**NEW TEMPORARY LOCATION**</strong></span></p><p dir="ltr">All classes will be held at:&nbsp;<br><span style="font-size: 1.125rem;">Bethlehem Baptist Church, 712 Penllyn Pike, Spring House, PA</span></p><p dir="ltr"><hr></p><p dir="ltr">9:45-11:00 AM<br>American Imperialism and Exceptionalism in the 20th Century - Multi-Purpose Room -&nbsp;<span style="font-size: 1.125rem; color: rgb(0, 0, 0); background-color: rgb(255, 192, 0);">Ends 4/20<br></span><span style="font-size: 1.125rem;">The Constitution &amp; Current Events - Cafe - <span style="background-color: rgb(255, 192, 0); color: rgb(0, 0, 0);">Ends 4/13&nbsp;<br></span></span><span style="font-size: 1.125rem;">Medical Ethics: Level 2 - Conference Room - &nbsp;<span style="background-color: rgb(255, 192, 0);">No class 4/13, Ends 4/20</span></span></p><p dir="ltr"><span style="font-size: 1.125rem;">11:30am-12:45pm<br></span><span style="font-size: 1.125rem;">AI for Modern Living - Multi-Purpose Room - <span style="background-color: rgb(255, 192, 0);">Ends 4/13<br></span></span><span style="font-size: 1.125rem;">Medical Ethics: Level 4 - Cafe - <span style="background-color: rgb(255, 192, 0);">No class 4/13, Ends 4/20<br></span></span><span style="font-size: 1.125rem;">Drawing &amp; Beyond - Conference Room - <span style="background-color: rgb(255, 192, 0);">Ends 4/13</span></span></p><p dir="ltr"><span style="font-size: 1.125rem;">12:45-1:45pm<br></span><span style="font-size: 1.125rem;">Social Lunch Hour - Multi-Purpose Room</span></p><p dir="ltr"><span style="font-size: 1.125rem;">1:45-3:00pm<br></span><span style="font-size: 1.125rem;">Oligarchy: Rule by Tech Elites - Multi-Purpose Room - <span style="background-color: rgb(255, 192, 0);">Ends 4/13<br></span></span><span style="font-size: 1.125rem;">Weekend News Review - Cafe - </span><span style="font-size: 1.125rem; background-color: rgb(255, 192, 0);">Ends 4/13<br></span><span style="font-size: 1.125rem;">Drawing &amp; Beyond - Conference Room -</span><span style="font-size: 1.125rem; background-color: rgb(255, 192, 0);"> Ends 4/13</span></p><p dir="ltr"><div><em style="font-size: 1.125rem;">Upper Dublin Library strives to make our programs accessible for all. For reasonable accommodations, please contact the library at 215-628-8744 or upperdublinlibrary@mclinc.org.</em></div></p><p dir="ltr"><a href="http://adl-udpl.coursestorm.com">Registration required.</a></p><hr><p dir="ltr"><span style="font-size: 1.125rem;">DONATE TODAY!<br></span><span style="font-size: 1.125rem;">This series is supported by the Friends of Upper Dublin Library. Your support makes library programs like the Adult Discovery &amp; Learning series possible. </span><a href="https://www.upperdublinlibrary.org/using-the-library/friends-of-udpl/donating-to-the-library" style="font-size: 1.125rem;">Donate to the Friends of UDPL here.</a></p><div></div><div></div>
X-ALT-DESC;FMTTYPE=text/html:<p dir="ltr"><span style="font-size: 1.125rem;">DATES: MONDAYS 4/13 - 4/20</span></p><p dir="ltr">AGE GROUP: Adults 18+</p><p dir="ltr">MONDAY COURSES&nbsp;</p><p dir="ltr"><a href="http://adl-udpl.coursestorm.com">REGISTER &amp; VIEW DETAILS HERE</a><br><hr></p><p dir="ltr"><span style="color: rgb(192, 0, 0);"><strong>**NEW TEMPORARY LOCATION**</strong></span></p><p dir="ltr">All classes will be held at:&nbsp;<br><span style="font-size: 1.125rem;">Bethlehem Baptist Church, 712 Penllyn Pike, Spring House, PA</span></p><p dir="ltr"><hr></p><p dir="ltr">9:45-11:00 AM<br>American Imperialism and Exceptionalism in the 20th Century - Multi-Purpose Room -&nbsp;<span style="font-size: 1.125rem; color: rgb(0, 0, 0); background-color: rgb(255, 192, 0);">Ends 4/20<br></span><span style="font-size: 1.125rem;">The Constitution &amp; Current Events - Cafe - <span style="background-color: rgb(255, 192, 0); color: rgb(0, 0, 0);">Ends 4/13&nbsp;<br></span></span><span style="font-size: 1.125rem;">Medical Ethics: Level 2 - Conference Room - &nbsp;<span style="background-color: rgb(255, 192, 0);">No class 4/13, Ends 4/20</span></span></p><p dir="ltr"><span style="font-size: 1.125rem;">11:30am-12:45pm<br></span><span style="font-size: 1.125rem;">AI for Modern Living - Multi-Purpose Room - <span style="background-color: rgb(255, 192, 0);">Ends 4/13<br></span></span><span style="font-size: 1.125rem;">Medical Ethics: Level 4 - Cafe - <span style="background-color: rgb(255, 192, 0);">No class 4/13, Ends 4/20<br></span></span><span style="font-size: 1.125rem;">Drawing &amp; Beyond - Conference Room - <span style="background-color: rgb(255, 192, 0);">Ends 4/13</span></span></p><p dir="ltr"><span style="font-size: 1.125rem;">12:45-1:45pm<br></span><span style="font-size: 1.125rem;">Social Lunch Hour - Multi-Purpose Room</span></p><p dir="ltr"><span style="font-size: 1.125rem;">1:45-3:00pm<br></span><span style="font-size: 1.125rem;">Oligarchy: Rule by Tech Elites - Multi-Purpose Room - <span style="background-color: rgb(255, 192, 0);">Ends 4/13<br></span></span><span style="font-size: 1.125rem;">Weekend News Review - Cafe - </span><span style="font-size: 1.125rem; background-color: rgb(255, 192, 0);">Ends 4/13<br></span><span style="font-size: 1.125rem;">Drawing &amp; Beyond - Conference Room -</span><span style="font-size: 1.125rem; background-color: rgb(255, 192, 0);"> Ends 4/13</span></p><p dir="ltr"><div><em style="font-size: 1.125rem;">Upper Dublin Library strives to make our programs accessible for all. For reasonable accommodations, please contact the library at 215-628-8744 or upperdublinlibrary@mclinc.org.</em></div></p><p dir="ltr"><a href="http://adl-udpl.coursestorm.com">Registration required.</a></p><hr><p dir="ltr"><span style="font-size: 1.125rem;">DONATE TODAY!<br></span><span style="font-size: 1.125rem;">This series is supported by the Friends of Upper Dublin Library. Your support makes library programs like the Adult Discovery &amp; Learning series possible. </span><a href="https://www.upperdublinlibrary.org/using-the-library/friends-of-udpl/donating-to-the-library" style="font-size: 1.125rem;">Donate to the Friends of UDPL here.</a></p><div></div><div></div>
LOCATION:Upper Dublin Public Library\, 
CLASS:PUBLIC
END:VEVENT
END:VCALENDAR
