BEGIN:VCALENDAR
VERSION:2.0
PRODID:Upper Dublin, PA Calendar Creator
METHOD:PUBLISH
BEGIN:VEVENT
DTSTAMP:20260401T103835
DTSTART:20260424T094500
DTEND:20260424T150000
SUMMARY:Adult Discovery & Learning - Friday Courses
DESCRIPTION:<p dir="ltr">DATES: Fridays 2/27-4/24<br><span style="color: rgb(192, 0, 0);"><strong>NO CLASSES ON FRIDAY 4/3</strong></span></p><p dir="ltr">AGE GROUP: Adults 18+</p><p dir="ltr"><a href="http://adl-udpl.coursestorm.com">REGISTER &amp; VIEW DETAILS HERE</a></p><hr><p><strong style="color: rgb(192, 0, 0); font-size: 1.125rem;">**NEW TEMPORARY LOCATION**</strong></p><p dir="ltr">All classes will be held at:&nbsp;<br><span style="font-size: 1.125rem;">Bethlehem Baptist Church, 712 Penllyn Pike, Spring House, PA</span><span style="font-size: 1.125rem;">d</span></p><hr><p><span style="font-size: 1.125rem;">9:45-11:00am</span></p><p dir="ltr"><span style="font-size: 1.125rem;">Turning Points of Modern History: Part 2 - Multi-Purpose Room - &nbsp;<span style="background-color: rgb(255, 192, 0);">Ends 4/10<br></span></span><span style="font-size: 1.125rem;">Morals, Ethics &amp; Justice - Cafe - <span style="background-color: rgb(255, 192, 0);">Ends 4/17</span><br></span><span style="font-size: 1.125rem;">Civil War: 1862-1863 - Conference Room - <span style="background-color: rgb(255, 192, 0);">Ends 4/17</span></span></p><p dir="ltr"><span style="font-size: 1.125rem;">11:30am-12:45pm<br></span><span style="font-size: 1.125rem;">What’s Hot in Sports - Multi-Purpose Room -<span style="background-color: rgb(255, 192, 0);"> Ends 4/24</span><br></span><span style="font-size: 1.125rem;">Philosophy Proposes, Reality Disposes - Cafe - <span style="background-color: rgb(255, 192, 0);">Ended 3/27<br></span></span></p><p dir="ltr"><span style="font-size: 1.125rem;">12:45-1:45pm<br></span><span style="font-size: 1.125rem;">Social Lunch Hour - Multi-Purpose Room</span></p><p dir="ltr"><span style="font-size: 1.125rem;">1:45-3:00pm<br></span><span style="font-size: 1.125rem;">Friday Lectures - See other calendar events for more details.</span></p><p dir="ltr"></p><div><em style="font-size: 1.125rem;">Upper Dublin Library strives to make our programs accessible for all. For reasonable accommodations, please contact the library at 215-628-8744 or upperdublinlibrary@mclinc.org.</em></div><p>&nbsp;</p><p><a href="http://adl-udpl.coursestorm.com" style="font-size: 1.125rem;">Registration required.</a></p><hr><p dir="ltr"><span style="font-size: 1.125rem;">DONATE TODAY!<br></span><span style="font-size: 1.125rem;">This series is supported by the Friends of Upper Dublin Library. Your support makes library programs like the Adult Discovery &amp; Learning series possible. </span><a href="https://www.upperdublinlibrary.org/using-the-library/friends-of-udpl/donating-to-the-library" style="font-size: 1.125rem;">Donate to the Friends of UDPL here.</a></p><div></div><div></div>
X-ALT-DESC;FMTTYPE=text/html:<p dir="ltr">DATES: Fridays 2/27-4/24<br><span style="color: rgb(192, 0, 0);"><strong>NO CLASSES ON FRIDAY 4/3</strong></span></p><p dir="ltr">AGE GROUP: Adults 18+</p><p dir="ltr"><a href="http://adl-udpl.coursestorm.com">REGISTER &amp; VIEW DETAILS HERE</a></p><hr><p><strong style="color: rgb(192, 0, 0); font-size: 1.125rem;">**NEW TEMPORARY LOCATION**</strong></p><p dir="ltr">All classes will be held at:&nbsp;<br><span style="font-size: 1.125rem;">Bethlehem Baptist Church, 712 Penllyn Pike, Spring House, PA</span><span style="font-size: 1.125rem;">d</span></p><hr><p><span style="font-size: 1.125rem;">9:45-11:00am</span></p><p dir="ltr"><span style="font-size: 1.125rem;">Turning Points of Modern History: Part 2 - Multi-Purpose Room - &nbsp;<span style="background-color: rgb(255, 192, 0);">Ends 4/10<br></span></span><span style="font-size: 1.125rem;">Morals, Ethics &amp; Justice - Cafe - <span style="background-color: rgb(255, 192, 0);">Ends 4/17</span><br></span><span style="font-size: 1.125rem;">Civil War: 1862-1863 - Conference Room - <span style="background-color: rgb(255, 192, 0);">Ends 4/17</span></span></p><p dir="ltr"><span style="font-size: 1.125rem;">11:30am-12:45pm<br></span><span style="font-size: 1.125rem;">What’s Hot in Sports - Multi-Purpose Room -<span style="background-color: rgb(255, 192, 0);"> Ends 4/24</span><br></span><span style="font-size: 1.125rem;">Philosophy Proposes, Reality Disposes - Cafe - <span style="background-color: rgb(255, 192, 0);">Ended 3/27<br></span></span></p><p dir="ltr"><span style="font-size: 1.125rem;">12:45-1:45pm<br></span><span style="font-size: 1.125rem;">Social Lunch Hour - Multi-Purpose Room</span></p><p dir="ltr"><span style="font-size: 1.125rem;">1:45-3:00pm<br></span><span style="font-size: 1.125rem;">Friday Lectures - See other calendar events for more details.</span></p><p dir="ltr"></p><div><em style="font-size: 1.125rem;">Upper Dublin Library strives to make our programs accessible for all. For reasonable accommodations, please contact the library at 215-628-8744 or upperdublinlibrary@mclinc.org.</em></div><p>&nbsp;</p><p><a href="http://adl-udpl.coursestorm.com" style="font-size: 1.125rem;">Registration required.</a></p><hr><p dir="ltr"><span style="font-size: 1.125rem;">DONATE TODAY!<br></span><span style="font-size: 1.125rem;">This series is supported by the Friends of Upper Dublin Library. Your support makes library programs like the Adult Discovery &amp; Learning series possible. </span><a href="https://www.upperdublinlibrary.org/using-the-library/friends-of-udpl/donating-to-the-library" style="font-size: 1.125rem;">Donate to the Friends of UDPL here.</a></p><div></div><div></div>
LOCATION:Upper Dublin Public Library\, 
CLASS:PUBLIC
END:VEVENT
END:VCALENDAR
